BEGIN:VCALENDAR
VERSION:2.0
PRODID:-//Thiền Viện Minh Quang - ECPv6.15.20//NONSGML v1.0//EN
CALSCALE:GREGORIAN
METHOD:PUBLISH
X-ORIGINAL-URL:https://minhquang.com.au
X-WR-CALDESC:Events for Thiền Viện Minh Quang
REFRESH-INTERVAL;VALUE=DURATION:PT1H
X-Robots-Tag:noindex
X-PUBLISHED-TTL:PT1H
BEGIN:VTIMEZONE
TZID:Australia/Melbourne
BEGIN:STANDARD
TZOFFSETFROM:+1100
TZOFFSETTO:+1000
TZNAME:AEST
DTSTART:20200404T160000
END:STANDARD
BEGIN:DAYLIGHT
TZOFFSETFROM:+1000
TZOFFSETTO:+1100
TZNAME:AEDT
DTSTART:20201003T160000
END:DAYLIGHT
BEGIN:STANDARD
TZOFFSETFROM:+1100
TZOFFSETTO:+1000
TZNAME:AEST
DTSTART:20210403T160000
END:STANDARD
BEGIN:DAYLIGHT
TZOFFSETFROM:+1000
TZOFFSETTO:+1100
TZNAME:AEDT
DTSTART:20211002T160000
END:DAYLIGHT
BEGIN:STANDARD
TZOFFSETFROM:+1100
TZOFFSETTO:+1000
TZNAME:AEST
DTSTART:20220402T160000
END:STANDARD
BEGIN:DAYLIGHT
TZOFFSETFROM:+1000
TZOFFSETTO:+1100
TZNAME:AEDT
DTSTART:20221001T160000
END:DAYLIGHT
END:VTIMEZONE
BEGIN:VEVENT
DTSTART;TZID=Australia/Melbourne:20211024T093000
DTEND;TZID=Australia/Melbourne:20211024T120000
DTSTAMP:20260424T092536
CREATED:20211023T003621Z
LAST-MODIFIED:20211023T003621Z
UID:5171-1635067800-1635076800@minhquang.com.au
SUMMARY:Adelaide - LỄ VÍA QUAN THẾ ÂM BỒ TÁT 2021
DESCRIPTION:GIÁO HỘI TĂNG GIÀ KHẤT SĨ ÚC CHÂU\nTHIỀN VIỆN MINH QUANG\n50 David Tce\, Kilkenny SA 5009 – Tel: (08) 71202670 \nTHÔNG BÁO\nLỄ VÍA QUAN THẾ ÂM BỒ TÁT \nNam mô Bổn Sư Thích Ca Mâu Ni Phật\nNam mô Đại Từ Đại Bi Cứu Khổ Cứu Nạn Quán Thế Âm Bồ Tát. \nĐể tạo duyên lành cho chúng sanh gieo trồng công đức sâu dày với Bồ Tát Quan Âm và tiến tu đạo nghiệp. Như mọi năm Thiền viện Minh Quang\, Adelaide\, tổ chức Lễ Vía Quan Âm vào ngày Chủ Nhật\, 24/ 10/ 2021 (19/ 9 Tân Sửu) . \nChương trình sơ lược như sau:\nThứ Hai\, 18/ 10 → Thứ Bảy\, 23/ 10\n7.00pm: Lạy ngũ bách danh Bồ Tát Quan Âm.\nThứ Ba\, 19/ 10\n7.00pm: Sám hối như thường lệ\nChủ Nhật\, 24/ 10\n9.30am – 12.00pm: Phật tử vân tập chánh điện lễ Phật-Pháp-Tăng. Trì chú đại bi 3 biến và nhiễu quanh tượng 3 vòng (Trước tượng Quan Âm bên ngoài). Tụng kinh &\,Tọa Thiền (Trong chánh điện). Lời khuyến tấn của ĐĐ Tăng. Cúng cửu huyền. Thọ trai. \nTrân trọng kính mời quý Phật tử về dự đầy đủ và đúng giờ. Sự hiện diện của quý vị là thể hiện tấm lòng thành kính dâng lên cúng dường Bồ Tát Quán Thế Âm và làm cho buổi lễ thêm phần trang nghiêm\, thành tựu viên mãn. \nNguyện cầu Tam Bảo chứng minh công đức và gia hộ cho quý vị luôn an lành trong sự hộ niệm của Đức Quan Âm. \nNam Mô Tầm Thinh Cứu Khổ Cứu Nạn Quán Thế Âm Bồ Tát. \nTăng Ni Thiền viện Minh Quang \n 
URL:https://minhquang.com.au/event/adelaide-le-via-quan-the-am-bo-tat-2021/
LOCATION:THIỀN VIỆN MINH QUANG NAM ÚC\, 50 David Terrace\, Kilkenny\, SA\, 5009\, Australia
CATEGORIES:Adelaide
ATTACH;FMTTYPE=image/jpeg:https://minhquang.com.au/wp-content/uploads/2021/10/688B8735-5DF3-4A8B-84FD-7D17F40642AD.jpeg
END:VEVENT
BEGIN:VEVENT
DTSTART;TZID=Australia/Melbourne:20210829T100000
DTEND;TZID=Australia/Melbourne:20210829T130000
DTSTAMP:20260424T092536
CREATED:20210827T091852Z
LAST-MODIFIED:20210827T091852Z
UID:5048-1630231200-1630242000@minhquang.com.au
SUMMARY:Adelaide - Lễ Vu Lan và Dâng Y Ca Sa 2021
DESCRIPTION:GIÁO HỘI TĂNG GIÀ KHẤT SĨ ÚC CHÂU\nTHIỀN VIỆN MINH QUANG\n50 David Tce\, Kilkenny SA 5009 – Tel: (08) 71202670 \nTHƯ MỜI\nLỄ VU LAN & DÂNG Y CA SA\nPL. 2565 – DL. 2021 \n“Tiết tháng bảy gió lạnh\, đông về thương nhớ Mẹ\nHội Vu Lan hương trầm quyện tỏa niệm ân Cha”. \nNam mô Bổn Sư Thích Ca Mâu Ni Phật\nKính thưa quý đồng hương Phật tử. \nVu Lan lại trở về với bao người con Phật\, nhớ đến công sanh thành dưỡng dục của Cha Mẹ. Chúng ta noi theo gương hiếu hạnh của chư Phật\, đặc biệt gương hiếu hạnh của đức Mục Kiền Liên Bồ Tát. Nhân dịp này kính mời quý đồng hương và Phật tử dành ít thời gian quý báu về Thiền viện Minh Quang tham dự \nĐại Lễ Vu Lan & Dâng Y Ca Sa (Có chương trình riêng)\nvào lúc 10am\, Chủ Nhật 29/ 8/ 2021 (nhằm ngày 22/ 7/ Tân Sửu). \nRất mong quý vị tham gia đông đủ và đến đúng giờ quy định để buổi lễ đem đến nhiều ý nghĩa cho quý vị. Đồng thời cũng cầu nguyện Cửu huyền thất tổ\, ông bà cha mẹ\, thân bằng quyến thuộc quá vãng siêu sanh Tịnh độ\, nguyện cầu những thương vong Covid được siêu thoát\, nạn nhân lây nhiễm chóng hồi phục. Và xin gửi lời chân thành chúc lành đến quý vị cùng gia quyến tăng long phước thọ\, muôn điều sở nguyện và trọn lòng hiếu hạnh trong mùa báo hiếu năm nay. \nNam mô Đại Hiếu Mục Kiền Liên Bồ Tát. \nTăng Ni Thiền Viện Minh Quang\, Nam Úc\nTrân Trọng Kính Mời
URL:https://minhquang.com.au/event/adelaide-le-vu-lan-va-dang-y-ca-sa-2021/
LOCATION:THIỀN VIỆN MINH QUANG NAM ÚC\, 50 David Terrace\, Kilkenny\, SA\, 5009\, Australia
CATEGORIES:Adelaide
ATTACH;FMTTYPE=image/jpeg:https://minhquang.com.au/wp-content/uploads/2021/06/ABEAF6DA-D6C0-4094-8193-B942A31A6220.jpeg
END:VEVENT
BEGIN:VEVENT
DTSTART;TZID=Australia/Melbourne:20210530T100000
DTEND;TZID=Australia/Melbourne:20210530T170000
DTSTAMP:20260424T092536
CREATED:20210509T120425Z
LAST-MODIFIED:20210509T120728Z
UID:4677-1622368800-1622394000@minhquang.com.au
SUMMARY:Adelaide – Thông báo Lễ Phật Đản PL2565
DESCRIPTION:GIÁO HỘI TĂNG GIÀ KHẤT SĨ ÚC CHÂU\nTHIỀN VIỆN MINH QUANG\, NAM ÚC\n50 David Tce\, Kilkenny SA 5009 \nTHÔNG BÁO\nTHAM DỰ ĐẠI LỄ PHẬT ĐẢN\, PL. 2565\, DL. 2021 \nNam Mô Bổn Sư Thích Ca Mâu Ni Phật\nVui thay chư Phật ra đời\,\n Vui thay giáo Pháp khắp nơi hoằng truyền.\nVui thay Tăng Bảo trang nghiêm\,\nVui thay bốn chúng kết duyên tu hành. \nKính gửi quý đồng hương Phật tử\, \nHằng năm\, cứ mỗi độ trăng rằm tháng tư âm lịch trở về\, những người con Phật khắp nơi trên toàn thế giới lại hân hoan chào đón ngày đản sinh của Đức Từ Phụ Thích Ca Mâu Ni\, bậc Đạo Sư vĩ đại nhất của nhân loại. Sự xuất hiện của Ngài\, đã đem lại nguồn an lạc và hạnh phúc chân thật cho tất cả và là một nhân duyên lớn cho chúng sanh tìm về con đường giác ngộ giải thoát.\nHòa cùng không khí hân hoan đón mừng ngày Phật đản khắp mọi nơi và để tỏ lòng thành kính tri ân Đức Phật\, thiền viện Minh Quang Adelaide long trọng tổ chức Đại Lễ Phật Đản lần thứ 2647.\nThời gian: 10.00 am\, Chủ Nhật\, 30/ 5/ 2021 (19/ 4/ Tân Sửu).\nThay mặt Ban Tổ Chức xin trân trọng kính mời quý đồng hương Phật tử dành chút thời gian về dự lễ. Nguyện cầu Tam Bảo thùy từ gia hộ cho quý vị và quyến thuộc một mùa Phật Đản vô lượng an lạc\, vô lượng cát tường. \nTrân trọng kính mời\nThay mặt BTC\nTăng Ni Thiền Viện Minh Quang \nCHƯƠNG TRÌNH ĐẠI LỄ\n09.00 am: Phật tử vân tập\n10.00 am: Bắt đầu buổi lễ gồm:\n1. Dâng hoa\n2. Tuyên đọc Thông điệp Phật đản\n3. Hợp ca cúng dường\n4. Cảm niệm Phật Đản\n5. Đơn ca cúng dường\n6. Đạo từ chứng minh\n7. Khóa lễ cầu nguyện\n& Nghi thức tắm Phật\n8. Thọ trai & hoàn mãn\n9. Lễ quy y Tam Bảo. (2pm)
URL:https://minhquang.com.au/event/adelaide-thong-bao-le-phat-dan-pl2565/
LOCATION:THIỀN VIỆN MINH QUANG NAM ÚC\, 50 David Terrace\, Kilkenny\, SA\, 5009\, Australia
CATEGORIES:Adelaide
ATTACH;FMTTYPE=image/jpeg:https://minhquang.com.au/wp-content/uploads/2021/05/viber_image_2021-05-08_11-36-57.jpg
END:VEVENT
END:VCALENDAR