BEGIN:VCALENDAR
VERSION:2.0
PRODID:-//Thiền Viện Minh Quang - ECPv6.15.20//NONSGML v1.0//EN
CALSCALE:GREGORIAN
METHOD:PUBLISH
X-ORIGINAL-URL:https://minhquang.com.au
X-WR-CALDESC:Events for Thiền Viện Minh Quang
REFRESH-INTERVAL;VALUE=DURATION:PT1H
X-Robots-Tag:noindex
X-PUBLISHED-TTL:PT1H
BEGIN:VTIMEZONE
TZID:Australia/Melbourne
BEGIN:STANDARD
TZOFFSETFROM:+1100
TZOFFSETTO:+1000
TZNAME:AEST
DTSTART:20200404T160000
END:STANDARD
BEGIN:DAYLIGHT
TZOFFSETFROM:+1000
TZOFFSETTO:+1100
TZNAME:AEDT
DTSTART:20201003T160000
END:DAYLIGHT
BEGIN:STANDARD
TZOFFSETFROM:+1100
TZOFFSETTO:+1000
TZNAME:AEST
DTSTART:20210403T160000
END:STANDARD
BEGIN:DAYLIGHT
TZOFFSETFROM:+1000
TZOFFSETTO:+1100
TZNAME:AEDT
DTSTART:20211002T160000
END:DAYLIGHT
BEGIN:STANDARD
TZOFFSETFROM:+1100
TZOFFSETTO:+1000
TZNAME:AEST
DTSTART:20220402T160000
END:STANDARD
BEGIN:DAYLIGHT
TZOFFSETFROM:+1000
TZOFFSETTO:+1100
TZNAME:AEDT
DTSTART:20221001T160000
END:DAYLIGHT
BEGIN:STANDARD
TZOFFSETFROM:+1100
TZOFFSETTO:+1000
TZNAME:AEST
DTSTART:20230401T160000
END:STANDARD
BEGIN:DAYLIGHT
TZOFFSETFROM:+1000
TZOFFSETTO:+1100
TZNAME:AEDT
DTSTART:20230930T160000
END:DAYLIGHT
END:VTIMEZONE
BEGIN:VEVENT
DTSTART;TZID=Australia/Melbourne:20220220T090000
DTEND;TZID=Australia/Melbourne:20220220T140000
DTSTAMP:20260424T075512
CREATED:20220212T212809Z
LAST-MODIFIED:20220212T212809Z
UID:5829-1645347600-1645365600@minhquang.com.au
SUMMARY:Brisbane - Đại Lễ Tưởng Niệm 68 năm Đức Tổ Sư Minh Đăng Quang Vắng Bóng
DESCRIPTION:GIÁO HỘI PHẬT GIÁO TĂNG GIÀ KHẤT SĨ ÚC CHÂU\nNI VIỆN MINH QUANG\n154 Harwoods Road\, Walloon QLD 4306\nNi Sư Tú Liên: 0404 709 339 – Sư Cô Thảo Liên: 0435 459 989 \n\n\nNam Mô Bổn Sư Thích Ca Mâu Ni Phật\, \nĐể tưởng niệm và tri ân Đức Tổ Sư MINH ĐĂNG QUANG – Tổ Sư khai lập ” Đạo Phật Khất Sĩ Việt Nam” với chí nguyện ” Nối Truyền Thích Ca Chánh Pháp”\, cũng như ôn lại hành trang của Tổ Sư và tạo thắng duyên cho Môn đồ đệ tử báo đáp thâm ân\, Ni Viện Minh Quang thành kính tổ chức: \nĐẠI LỄ TƯỞNG NIỆM 68 NĂM (1954- 2022) ĐỨC TỔ SƯ MINH ĐĂNG QUANG VẮNG BÓNG \nNgày: Chủ Nhật 20/02/2022\, nhằm ngày 20 tháng giêng năm Nhâm Dần Thời gian:\n9:00am – Khất thực hóa duyên\n10:00am – Lễ Tưởng Niệm Đức Tổ Sư\nHoà Thượng chứng minh và ban đạo từ: Hoà Thượng Thích Minh Hiếu\n12:00pm – Cúng dường Trai Tăng\ntại 154 Harwoods Road\, Walloon QLD 4306 \nBan tổ chức trân trọng kính mời quý đồng hương Phật tử hoan hỷ tham dự đông đủ nhằm góp phần cho buổi lễ được trang nghiêm và long trọng. \nChư Ni tại Ni Viện kính thông báo
URL:https://minhquang.com.au/event/brisbane-dai-le-tuong-niem-68-nam-duc-to-su-minh-dang-quang-vang-bong/
LOCATION:NI VIỆN MINH QUANG\, 154 Harwoods Road\, Walloon\, QLD\, 4306\, Australia
CATEGORIES:Brisbane
ATTACH;FMTTYPE=image/jpeg:https://minhquang.com.au/wp-content/uploads/2021/03/DSCF0697.jpg
END:VEVENT
BEGIN:VEVENT
DTSTART;VALUE=DATE:20220130
DTEND;VALUE=DATE:20220207
DTSTAMP:20260424T075512
CREATED:20220129T001100Z
LAST-MODIFIED:20220129T001100Z
UID:5646-1643500800-1644191999@minhquang.com.au
SUMMARY:Brisbane - chương trình đón xuân Nhâm Dần
DESCRIPTION:Ni Viện Minh Quang\n154 Harwoods Rd\, Walloon QLD 4306 \nNi Sư Tú Liên 0472 774 932 – Sư Cô Thảo Liên: 0435 459 989 \nCHƯƠNG TRÌNH ĐÓN XUÂN NHÂM DẦN 2022 \nChủ Nhật – 28 tháng Chạp (nhằm ngày 30/01/2022)\nBuổi tu cuối năm và tiệc tất niên\n1:30pm – 3pm: Lễ Phật\, Tụng Kinh\n3:30pm – 5:30pm: chấp tác (công quả) 6pm: Tiệc tất niên (Tổng kết cuối năm)\nThứ Hai – 29 Tết (31/01/2022): Sám hối cuối năm và đón giao thừa 8pm – 9:30pm : Sám hối\n10pm: Đón giao thừa và tặng quà đêm giao thừa\nThứ Ba – Mùng 1 Tết (01/02/2022)\n10am -11am : Thời Kinh cầu an đầu năm\n11am: Đại chúng dùng trưa\n11am – 6pm: Phật tử Lễ Phật\, nhận lộc đầu xuân\nThứ Tư đến Chủ Nhật – Mùng 2 đến mùng 6 Tết (02 – 06/02/2022)\n10am: Thời Kinh cầu an đầu năm 11am – 6pm: Phật tử Lễ Phật đầu xuân 12pm: Đại chúng dùng trưa \nKính chúc quý đồng hương\, quý Phật tử và gia đình một năm mới an lành\, hạnh phúc\, vạn sự hanh thông
URL:https://minhquang.com.au/event/brisbane-chuong-trinh-don-xuan-nham-dan/
LOCATION:NI VIỆN MINH QUANG\, 154 Harwoods Road\, Walloon\, QLD\, 4306\, Australia
CATEGORIES:Brisbane
ATTACH;FMTTYPE=image/jpeg:https://minhquang.com.au/wp-content/uploads/2022/01/BC228E46-9F7D-4361-9D63-ECDAFFF185E4.jpeg
END:VEVENT
BEGIN:VEVENT
DTSTART;TZID=Australia/Melbourne:20211219T180000
DTEND;TZID=Australia/Melbourne:20211219T180000
DTSTAMP:20260424T075512
CREATED:20211202T083147Z
LAST-MODIFIED:20211206T113600Z
UID:5372-1639936800-1639936800@minhquang.com.au
SUMMARY:Brisbane - Lễ Vía Đức Phật A Di Đà 2021
DESCRIPTION:GIÁO HỘI PHẬT GIÁO TĂNG GIÀ KHẤT SĨ ÚC CHÂU\nNI VIỆN MINH QUANG\n154 Harwoods Rd\, Walloon QLD 4306 \nNi Sư Tú Liên 0404 709 339 – Sư Cô Thảo Liên 0435 459 989 – Ni Cô Liên Hân 0477 209 908 \n Thông Báo Lễ Vía Đức Phật A Di Đà \nNam Mô A Di Đà Phật\, \nĐể thể hiện lòng tôn kính đối với Đức Phật A Di Đà\, Ni Viện Minh Quang xin long trọng tổ chức buổi Lễ cúng dường Hoa Đăng để tưởng niệm về Ngài với công hạnh độ sanh qua 48 lời nguyện lúc chưa thành Phật. Đây là cơ hội để những Phật tử đang thực hành theo pháp môn niệm Phật với chí nguyện vãng sanh\, thể hiện niềm tin và lòng thành kính vô biên với Ngài. \nLễ cúng dường Hoa Đăng Đức Phật A Di Đà sẽ được diễn ra vào \nChủ Nhật – ngày 19 tháng 12 năm 2021\n(nhằm ngày 16 tháng 11 năm Tân Sửu\, Phật lịch 2565) \nChương trình: \n6:00pm: Phật tử vân tập về chánh điện ổn định đạo tràng và Tụng kinh \n6:30pm: Hoà Thượng Thích Minh Hiếu giảng về ý nghĩa Lễ vía Phật A Di Đà \n7:30pm Cúng dường hoa đăng – Truyền đăng – kinh hành niệm Phật \nBuổi Lễ sẽ kết thúc vào khoảng 8:30pm. \nKính mời quí đồng hương Phật tử vân tập về Ni Viện Minh Quang cùng Chư Tôn Đức Tăng\, Ni cúng dường hoa đăng lên Đức Phật A Di Đà. Sự hiện diện và thực tập của quí Phật tử sẽ làm cho buổi lễ được tròn đầy công đức và cũng là niềm khích lệ cho đạo tràng Ni Viện ngày càng phát triển. \n​Trân trọng thông báo \nChư Ni Ni Viện Minh Quang
URL:https://minhquang.com.au/event/brisbane-le-via-duc-phat-a-di-da-2021/
LOCATION:NI VIỆN MINH QUANG\, 154 Harwoods Road\, Walloon\, QLD\, 4306\, Australia
CATEGORIES:Brisbane
ATTACH;FMTTYPE=image/jpeg:https://minhquang.com.au/wp-content/uploads/2021/12/17837EC0-B0D7-4FF5-9F9E-417A60E24F36.jpeg
END:VEVENT
BEGIN:VEVENT
DTSTART;TZID=Australia/Melbourne:20210905T100000
DTEND;TZID=Australia/Melbourne:20210905T130000
DTSTAMP:20260424T075512
CREATED:20210827T083749Z
LAST-MODIFIED:20210827T103013Z
UID:5041-1630836000-1630846800@minhquang.com.au
SUMMARY:Đại lễ Vu Lan Báo Hiếu Brisbane 2021
DESCRIPTION:GIÁO HỘI PHẬT GIÁO TĂNG GIÀ KHẤT SĨ ÚC CHÂU\nNI VIỆN MINH QUANG\n154 Harwoods Rd\, Walloon QLD 4306\nSư Cô Thảo Liên: 0435 459 989 – Liên Hân: 0434 743 998 \nTHÔNG BÁO\nLỄ VU LAN BÁO HIẾU \nKính thưa quý Phật tử\, \nLại thêm một mùa Vu Lan đã về với những người con Phật. Rằm tháng Bảy hàng năm là mùa Tự Tứ Tăng và Vu Lan Bồn. Vu Lan là dịp để mọi người con tưởng nhớ và thể hiện lòng tri ân sâu sắc nhất đến Cha Mẹ dù hai đấng sinh thành đang còn tại thế hay đã qua đời\, vì công ơn sinh dưỡng to lớn ấy sánh ngang trời biển. \nNhằm tạo thắng duyên cho quý Phật tử gieo tạo phước thiện để hồi hướng mọi công đức lành đến ông bà\, cha mẹ\, gia đình quý vị và tất cả pháp giới chúng sanh hiện tiền cũng như đã quá vãng\, đặc biệt là những nạn nhân của đại dich Covid-19\, nạn nhân của các cuộc khủng bố\, chiến tranh. Ni Viện Minh Quang sẽ tổ chức: \nLỄ VU LAN BÁO HIẾU \nNgày: Chủ Nhật 05/09/2021\, nhằm 29 tháng 07 âm lịch năm Tân Sửu \nThời gian: 10am – 12pm: Lễ Vu Lan\n12pm: Cúng dường Trai Tăng\nĐịa Điểm: Ni Viện Minh Quang tại 154 Harwoods Rd\, Walloon QLD 4306 \nBan tổ chức trân trọng kính mời quý đồng hương Phật tử cùng về tham dự đông đủ\, nhằm góp phần cho buổi lễ được trang nghiêm\, long trọng. Quí vị hoan hỷ mang theo khẩu trang khi đến dự lễ theo quy định của tiểu bang Queensland. \nThay Mặt Ban Tổ Chức \nTỳ Kheo Ni Thích Nữ Thảo Liên
URL:https://minhquang.com.au/event/dai-le-vu-lan-bao-hieu-brisbane-2021/
LOCATION:NI VIỆN MINH QUANG\, 154 Harwoods Road\, Walloon\, QLD\, 4306\, Australia
CATEGORIES:Brisbane
ATTACH;FMTTYPE=image/jpeg:https://minhquang.com.au/wp-content/uploads/2021/08/14067402-78D0-4ED4-A834-073221B0FB03.jpeg
END:VEVENT
BEGIN:VEVENT
DTSTART;TZID=Australia/Melbourne:20210523T093000
DTEND;TZID=Australia/Melbourne:20210523T150000
DTSTAMP:20260424T075512
CREATED:20210509T115642Z
LAST-MODIFIED:20210509T115732Z
UID:4671-1621762200-1621782000@minhquang.com.au
SUMMARY:Brisbane - Lễ Phật Đản PL2565
DESCRIPTION:Giáo Hội Phật Giáo Tăng Già Khất Sĩ Úc Châu\nNi Viện Minh Quang\n154 Harwoods Road\, Walloon QLD 4306\n0435 459 989 – 0434 734 998 \nThông báo Đại Lễ Phật Đản \nNam Mô Bổn Sư Thích Ca Mâu Ni Phật\, \nKính thưa quý Phật tử\, Đại lễ Phật Đản lần thứ 2645\, PL 2565 sẽ được diễn ra vào ngày Chủ Nhật 23 tháng 5 năm 2021 (Nhằm ngày 12 tháng 4 âm lịch). Chương trình của buổi lễ như sau: \n09:30am Phật tử vân tập về đạo tràng\n10:00 – 12:00pm Đại Lễ Phật Đản\nKhoá lễ cầu nguyện\nHoà Thượng Viện chủ chứng minh và ban đạo từ\nNghi lễ tắm Phật\n12:00pm Cúng dường trai tăng. Đại chúng dùng trưa\n02:00pm Lễ Sám Hối \nNi Viện Minh Quang sẽ tái hiện khung cảnh vườn Lâm Tỳ Ni (Lumbini) nơi hoàng hậu Maya đản sanh hoàng tử Sĩ Đạt Đa – Siddhartha (sau này Ngài xuất gia và thành đạo\, trở thành Đức Phật Thích Ca Mâu Ni).\nBan tổ chức xin trân trọng kính mời quý Phật tử đồng hương cùng về tham dự đông đủ. \nChư Ni tại Ni Viện kính thông báo
URL:https://minhquang.com.au/event/4671/
LOCATION:NI VIỆN MINH QUANG\, 154 Harwoods Road\, Walloon\, QLD\, 4306\, Australia
CATEGORIES:Brisbane
ATTACH;FMTTYPE=image/jpeg:https://minhquang.com.au/wp-content/uploads/2021/05/Thong-bao-Dai-le-Phat-Dan.jpg
END:VEVENT
BEGIN:VEVENT
DTSTART;TZID=Australia/Melbourne:20210307T090000
DTEND;TZID=Australia/Melbourne:20210307T090000
DTSTAMP:20260424T075512
CREATED:20210223T102338Z
LAST-MODIFIED:20210223T121710Z
UID:4155-1615107600-1615107600@minhquang.com.au
SUMMARY:Brisbane - Đại lễ tưởng niệm Đức Tổ Sư Minh Đăng Quang
DESCRIPTION:GIÁO HỘI PHẬT GIÁO TĂNG GIÀ KHẤT SĨ ÚC CHÂU\nNI VIỆN MINH QUANG\n154 Harwoods Road\, Walloon QLD 4306\n0435 459 989 – 0434 743 998 \nNam Mô Bổn Sư Thích Ca Mâu Ni Phật\, \nĐể tưởng niệm và tri ân Đức Tổ Sư MINH ĐĂNG QUANG – Tổ Sư khai lập “Đạo Phật Khất Sĩ Việt Nam” cũng như ôn lại hành trang của Tổ Sư và tạo thắng duyên cho môn đồ đệ tử báo đáp thâm ân\, Ni Viện Minh Quang thành kính tổ chức: \nĐẠI LỄ TƯỞNG NIỆM 67 NĂM (1954- 2021)\nĐỨC TỔ SƯ MINH ĐĂNG QUANG VẮNG BÓNG \nNgày: Chủ Nhật 07/03/2021\, nhằm ngày 24 tháng Giêng năm Tân Sửu\n9:00am – Khất thực hóa duyên\n10:00am – Lễ Tưởng Niệm Đức Tổ Sư\nHoà Thượng chứng minh và ban đạo từ: Hoà Thượng Thích Minh Hiếu\n12:00pm – Cúng dường Trai Tăng\n1:30pm – Lễ Quy Y Tam Bảo\ntại 154 Harwoods Road\, Walloon 4306\nBan tổ chức trân trọng kính mời quý đồng hương Phật tử hoan hỷ tham dự đông đủ nhằm góp phần cho buổi lễ được trang nghiêm và long trọng. \nChư Ni tại Ni Viện kính thông báo
URL:https://minhquang.com.au/event/brisbane-dai-le-tuong-niem-duc-to-su-minh-dang-quang/
LOCATION:NI VIỆN MINH QUANG\, 154 Harwoods Road\, Walloon\, QLD\, 4306\, Australia
CATEGORIES:Brisbane
ATTACH;FMTTYPE=image/jpeg:https://minhquang.com.au/wp-content/uploads/2021/02/TS-Minh-Dang-Quang-Tai-DBBSCL.jpg
END:VEVENT
BEGIN:VEVENT
DTSTART;TZID=Australia/Melbourne:20210228T103000
DTEND;TZID=Australia/Melbourne:20210228T103000
DTSTAMP:20260424T075512
CREATED:20210223T113135Z
LAST-MODIFIED:20210223T122007Z
UID:4181-1614508200-1614508200@minhquang.com.au
SUMMARY:Brisbane - CÚNG RẰM THÁNG GIÊNG\, THUYẾT PHÁP VÀ SÁM HỐI
DESCRIPTION: GIÁO HỘI PHẬT GIÁO TĂNG GIÀ KHẤT SĨ ÚC CHÂU\nNI VIỆN MINH QUANG\n154 Harwoods Rd\, Walloon QLD 4306\n0435 459 989 ; 0434 743 998 \n  \nTHÔNG BÁO \nTrân trọng kính mời quí Phật tử về Ni Viện Minh Quang dự lễ \nCÚNG RẰM THÁNG GIÊNG\, THUYẾT PHÁP VÀ SÁM HỐI\nChủ Nhật –  28/02/2021 (Nhằm ngày 17 tháng Giêng năm Tân Sửu)  \n10:30am: Tụng kinh\, cúng rằm\n12:00pm: Đại chúng dùng trưa\n2:30pm: Thuyết pháp\n4:30pm: Sám Hối \nVài dòng kính thông báo đến quí Phật tử\, kính mời quí vị cùng về dự lễ và nghe thuyết pháp đông đủ. Kính chúc quí vị luôn an lạc trong chánh pháp. \nChư Ni NVMQ kính thông báo
URL:https://minhquang.com.au/event/brisbane-cung-ram-thang-gieng-thuyet-phap-va-sam-hoi/
LOCATION:NI VIỆN MINH QUANG\, 154 Harwoods Road\, Walloon\, QLD\, 4306\, Australia
CATEGORIES:Brisbane
ATTACH;FMTTYPE=image/jpeg:https://minhquang.com.au/wp-content/uploads/2021/01/Screen-Shot-2021-01-09-at-2.39.13-pm.jpg
END:VEVENT
END:VCALENDAR