BEGIN:VCALENDAR
VERSION:2.0
PRODID:-//Thiền Viện Minh Quang - ECPv6.15.20//NONSGML v1.0//EN
CALSCALE:GREGORIAN
METHOD:PUBLISH
X-WR-CALNAME:Thiền Viện Minh Quang
X-ORIGINAL-URL:https://minhquang.com.au
X-WR-CALDESC:Events for Thiền Viện Minh Quang
REFRESH-INTERVAL;VALUE=DURATION:PT1H
X-Robots-Tag:noindex
X-PUBLISHED-TTL:PT1H
BEGIN:VTIMEZONE
TZID:Australia/Melbourne
BEGIN:STANDARD
TZOFFSETFROM:+1100
TZOFFSETTO:+1000
TZNAME:AEST
DTSTART:20200404T160000
END:STANDARD
BEGIN:DAYLIGHT
TZOFFSETFROM:+1000
TZOFFSETTO:+1100
TZNAME:AEDT
DTSTART:20201003T160000
END:DAYLIGHT
BEGIN:STANDARD
TZOFFSETFROM:+1100
TZOFFSETTO:+1000
TZNAME:AEST
DTSTART:20210403T160000
END:STANDARD
BEGIN:DAYLIGHT
TZOFFSETFROM:+1000
TZOFFSETTO:+1100
TZNAME:AEDT
DTSTART:20211002T160000
END:DAYLIGHT
BEGIN:STANDARD
TZOFFSETFROM:+1100
TZOFFSETTO:+1000
TZNAME:AEST
DTSTART:20220402T160000
END:STANDARD
BEGIN:DAYLIGHT
TZOFFSETFROM:+1000
TZOFFSETTO:+1100
TZNAME:AEDT
DTSTART:20221001T160000
END:DAYLIGHT
BEGIN:STANDARD
TZOFFSETFROM:+1100
TZOFFSETTO:+1000
TZNAME:AEST
DTSTART:20230401T160000
END:STANDARD
BEGIN:DAYLIGHT
TZOFFSETFROM:+1000
TZOFFSETTO:+1100
TZNAME:AEDT
DTSTART:20230930T160000
END:DAYLIGHT
END:VTIMEZONE
BEGIN:VEVENT
DTSTART;TZID=Australia/Melbourne:20220131T193000
DTEND;TZID=Australia/Melbourne:20220203T200000
DTSTAMP:20260424T092459
CREATED:20220107T213030Z
LAST-MODIFIED:20220107T213145Z
UID:5566-1643657400-1643918400@minhquang.com.au
SUMMARY:SYDNEY - ĐÓN XUÂN NHÂM DẦN 2022
DESCRIPTION:THIỀN VIỆN MINH QUANG \n28-32 Chadderton Street\, Canley Vale\, NSW 2166\nTel (02) 9723 8700 – Fax (02) 9723 8701 \nCHƯƠNG TRÌNH ĐÓN XUÂN NHÂM DẦN 2022 \nNGÀY 29 TẾT (Thứ Hai\, 31/ 1/ 2022)\n• 19:30 pm: Tiệc tất niên và Tổng kết cuối năm\n• 22:00 pm: Sám hối\n• 23:30 pm: Thời kinh cầu nguyện đón giao thừa mừng năm mới\n• 12:20 am: Phật tử mừng tuổi quý Tăng\, Ni và Phật tử nhận lì xì\nlộc đầu năm. \nMÙNG 1 TẾT (Thứ Ba\, 01/ 2/ 2022) – Phật tử lễ Phật và hái lộc đầu năm\n• 10:30 am: Lời chúc Tết đầu năm từ Hoà Thượng Viện Chủ đến\nvới tất cả Phật Tử và đồng hương Việt Nam\n• 11:00 am: Khai chuông đầu năm (Đại Hồng Chuông)\n12:00 pm: Thiền Viện phục vụ thức ăn chay đến đại chúng\n• 19:00 pm: Phật tử thắp hương lễ Phật. \nMÙNG 2 TẾT (Thứ Tư\, 02/ 2/ 2022) – Phật tử lễ Phật và hái lộc đầu năm\n• 12:00 pm: Thiền Viện phục vụ thức ăn chay đến đại chúng\n• 19:00 pm: Khai Kinh Pháp Hoa. \nMÙNG 3 TẾT (Thứ Năm\, 03/ 2/ 2022) – Phật tử lễ Phật và hái lộc đầu năm\n• 12:00 pm: Thiền Viện phục vụ thức ăn chay đến đại chúng\n19:00 pm: Trì Kinh Pháp Hoa \nTrụ Trì:\nTỳ Kheo Minh Hội \n  \n  \nHình ảnh Tết 2021
URL:https://minhquang.com.au/event/sydney-don-xuan-nham-dan-2022/
LOCATION:TỔ ĐÌNH MINH QUANG SYDNEY\, 28-32 Chadderton Street\, Canley Vale\, NSW\, 2166\, Australia
CATEGORIES:Sydney
ATTACH;FMTTYPE=image/jpeg:https://minhquang.com.au/wp-content/uploads/2022/01/186D83A5-18EF-4C4E-9FAA-77483E5A3D20.jpeg
END:VEVENT
BEGIN:VEVENT
DTSTART;VALUE=DATE:20210930
DTEND;VALUE=DATE:20211005
DTSTAMP:20260424T092459
CREATED:20210326T215628Z
LAST-MODIFIED:20210830T101253Z
UID:4496-1632960000-1633391999@minhquang.com.au
SUMMARY:Sydney - Khoá Tu An Lạc
DESCRIPTION:GIÁO HỘI PHẬT GIÁO TĂNG GIÀ KHẤT SĨ ÚC CHÂU\nTỔ ĐÌNH MINH QUANG\n28-32 Chadderton Street\, Canley Vale NSW 2166\nTel (02) 9723 8700 – Fax (02) 9723 8701 \nTHÔNG BÁO. \nHUỶ KHOÁ TU AN LẠC.\n( 30/9-4/10/2021 ). \nDịch bùng phát mạnh mấy tháng nay.\nCa bệnh tăng cao mỗi ngày ngày.\nThế giới năm triệu người từ biệt.\nXin nguyện hồn về đất tây thiên.\nCầu người hiện tại thoát qua tai.\nNay loan tin báo cùng đại chúng.\nAn Lạc khoá tu xin đình huỷ.\nThông báo lần sau được rõ bày.\nNH \nKính thưa Chư Tôn Đức Tăng Ni trong Tăng Đoàn cùng quý Phật tử.\nHiện nay tình hình dịch bệnh ngày càng tăng cao\, do đó việc tổ chức khoá tu khó có thể thực hiện trong thời gian cuối tháng 9/2021 này được.\nNay Tổ Đình trân trọng xin báo tin sẽ huỷ khoá tu “An Lạc” như đã thông báo trong suốt thời gian vừa qua. \nMọi chi tiết và thông tin sẽ được thông báo sau.\nNam Mô Thường Tinh Tấn Bồ Tát Ma Ha Tát. \nSydney 30/8/2021.\nTổ Đình Minh Quang.\nTK Thích Minh Hội.
URL:https://minhquang.com.au/event/sydney-khoa-tu-an-lac/
LOCATION:TỔ ĐÌNH MINH QUANG SYDNEY\, 28-32 Chadderton Street\, Canley Vale\, NSW\, 2166\, Australia
CATEGORIES:Sydney
ATTACH;FMTTYPE=image/jpeg:https://minhquang.com.au/wp-content/uploads/2021/03/khoa-tu-cropped.jpg
END:VEVENT
BEGIN:VEVENT
DTSTART;TZID=Australia/Melbourne:20210822T103000
DTEND;TZID=Australia/Melbourne:20210827T130000
DTSTAMP:20260424T092459
CREATED:20210827T084352Z
LAST-MODIFIED:20210827T084352Z
UID:5044-1629628200-1630069200@minhquang.com.au
SUMMARY:Sydney - MÙA VU LAN BÁO HIẾU PL.2565 – DL.2021
DESCRIPTION:THÔNG BÁO\nMÙA VU LAN BÁO HIẾU PL.2565 – DL.2021 \nVu Lan báo hiếu Mẹ Cha\nNgày Rằm tháng Bảy thiết tha nguyện cầu\nƠn Cha nghĩa Mẹ thâm sâu\nChỉ mong con khỏe nào cầu lợi danh\n                                       (NH)\nNam Mô Bổn Sư Thích Ca Mâu Ni Phật. \nKính thưa quý Phật tử\,\nMùa Vu Lan Báo Hiếu lại về\, là dịp để những người con thể hiện lòng hiếu kính\, đền ơn Cha Mẹ và cầu siêu cho Cửu Huyền Thất Tổ.\nNăm nay\, do tình hình dịch bệnh ngày càng gia tăng\, Tổ Đình Minh Quang không thể tổ chức Đại Lễ Vu Lan và Dâng Y Ca Sa như mọi năm.\nTừ đầu tháng 7 âm lịch\, Tổ đình khai Kinh Vu Lan và Kinh Địa Tạng để hồi hướng phước lành siêu độ vong linh.\nKính mong quý Phật tử ở tại tư gia cũng dành thời gian cùng nhất tâm trì tụng và niệm Phật cầu nguyện cho tự thân\, thân bằng quyến thuộc và Cửu Huyền Thất Tổ được ân triêm lợi lạc. \nLễ Vu Lan (được tổ chức nội bộ tại Thiền viện)\nVào lúc: 10.30 am\nNgày Rằm tháng 7 năm Tân Sửu (nhằm ngày 22/8/2021)\nSau đó\, là Lễ cúng Cầu siêu Cửu Huyền Thất Tổ. \nQuý Phật tử xin gửi phương danh cầu an và cầu siêu về Thiền viện (Ban Thư ký – Phật tử Diệu Ánh) hoặc gửi về Tổ Đình (Sư cô Hạnh).\nKính chúc lành đến quý Phật tử cùng gia quyến luôn an lành\, mạnh khỏe\, tinh tấn và được trọn lòng hiếu hạnh trong mùa Báo hiếu. \nNam mô Vu lan Duyên khởi Đại hiếu Mục Kiền Liên Bồ tát. \nSydney\, 6/8/2021\nTỳ Kheo Thích Minh Hội
URL:https://minhquang.com.au/event/sydney-mua-vu-lan-bao-hieu-pl-2565-dl-2021/
LOCATION:TỔ ĐÌNH MINH QUANG SYDNEY\, 28-32 Chadderton Street\, Canley Vale\, NSW\, 2166\, Australia
CATEGORIES:Sydney
ATTACH;FMTTYPE=image/jpeg:https://minhquang.com.au/wp-content/uploads/2021/08/99421177-A4AE-481E-A44D-30645FE10E3C.jpeg
END:VEVENT
BEGIN:VEVENT
DTSTART;TZID=Australia/Melbourne:20210526T100000
DTEND;TZID=Australia/Melbourne:20210526T170000
DTSTAMP:20260424T092459
CREATED:20210509T120549Z
LAST-MODIFIED:20210509T120549Z
UID:4679-1622023200-1622048400@minhquang.com.au
SUMMARY:Sydney - Thông báo Đại Lễ Phật Đản PL. 2565 – DL. 2021
DESCRIPTION:GIÁO HỘI PHẬT GIÁO TĂNG GIÀ KHẤT SĨ ÚC CHÂU\nTHIỀN VIỆN MINH QUANG\n28-32 Chadderton Street\, Canley Vale Sydney NSW 2166\nTel: (02) 9723 8700 – Fax: (02) 9723 8701 \nNam Mô Bổn Sư Thích Ca Mâu Ni Phật \nTHÔNG BÁO\nĐẠI LỄ PHẬT ĐẢN PL. 2565 – DL. 2021\nĐất thiên rung chuyển nhạc trời\,\nNgàn hoa rộ nở sáng ngời Tỳ Ni.\nĐóa sen bảy báu bước đi\,\nĐạo vàng lan tỏa khắp vì độ tha. \nKính thưa quý Phật tử xa gần\, năm nay\nVào ngày: Thứ Tư\, 26/ 5/ 2021 (15/ 4/ Tân Sửu)\nVào lúc: 10:00am\nThiền Viện tổ chức đón mừng Đại lễ Phật Đản\, PL. 2565 – DL. 2021\, ngày Đức Từ phụ Thích Ca Mâu Ni ra đời. Để cho ngày Lễ Đản Sanh của Đức Từ phụ Thích Ca Mâu Ni diễn ra trang nghiêm\, long trọng và viên mãn; đồng thời góp phần cầu nguyện cho quốc thới dân an\, thiên hạ thái bình\, chúng sanh nơi nơi an cư lạc nghiệp\, Thiền Viện xin thông báo và trân trọng kính mời quý Phật tử nhín chút thời gian quý báu về tham dự đông đủ. \nNam Mô Lâm Tì Ni Viên Vô Ưu Thọ Hạ Thị Hiện Đản Sanh Thái Tử Sĩ Đạt Ta. \nTrụ Trì Thiền Viện Minh Quang\nTK. Thích Minh Hội
URL:https://minhquang.com.au/event/sydney-thong-bao-dai-le-phat-dan-pl-2565-dl-2021/
LOCATION:TỔ ĐÌNH MINH QUANG SYDNEY\, 28-32 Chadderton Street\, Canley Vale\, NSW\, 2166\, Australia
CATEGORIES:Sydney
ATTACH;FMTTYPE=image/jpeg:https://minhquang.com.au/wp-content/uploads/2021/05/viber_image_2021-05-05_21-23-53.jpg
END:VEVENT
BEGIN:VEVENT
DTSTART;TZID=Australia/Melbourne:20210313T093000
DTEND;TZID=Australia/Melbourne:20210313T093000
DTSTAMP:20260424T092459
CREATED:20210223T100114Z
LAST-MODIFIED:20210223T122214Z
UID:4149-1615627800-1615627800@minhquang.com.au
SUMMARY:Sydney - Đại lễ tưởng niệm 67 năm Đức Tổ Sư Minh Đăng Quang vắng bóng
DESCRIPTION:GIÁO HỘI PHẬT GIÁO TĂNG GIÀ KHẤT SỈ ÚC CHÂU\nTHIỀN VIỆN MINH QUANG \n28-32 Chadderton Street\, Canley Vale Sydney NSW 2166\nTel: (02) 9723 8700 – Fax (02) 9723 8701 \nNam Mô Bổn Sư Thích Ca Mâu Ni Phật \nTHÔNG BÁO\nĐẠI LỄ TƯỞNG NIỆM 67 NĂM\nĐỨC TỔ SƯ MINH ĐĂNG QUANG VẮNG BÓNG\n(01/02 ÂL/1954 – 01/02 ÂL/2021) \nKính bạch chư Tôn Đức Tăng – Ni\,\nKính thưa quý Phật tử\,\nThiền Viện Minh Quang tại bốn tiểu bang Úc Châu \nĐể tưởng niệm và tri ân Đức Tổ Sư MINH ĐĂNG QUANG – Tổ Sư khai lập “Đạo Phật Khất Sĩ Việt Nam” với chí nguyện “Nối truyền Thích Ca Chánh Pháp”\, cũng như ôn lại hành trạng của Đức Tổ Sư và tạo thắng duyên cho môn đồ đệ tử báo đáp thâm ân\, Giáo Hội Phật giáo Tăng già Khất Sĩ Úc Châu thành kính tổ chức: \nĐẠI LỂ TƯỞNG NIỆM 67 NĂM\nĐỨC TỔ SƯ MINH ĐĂNG QUANG VẮNG BÓNG (1954-2021) \n\n\n\nThời gian: 10g sáng mùng 1 tháng 2 năm Tân Sửu (Âm Lịch) Nhằm ngày Thứ Bảy\, 13/03/2021 (Dương Lịch)\n\n\n\n\n\n\nVào lúc 9g30 sáng: Chư Tôn Đức Tăng-Ni sẽ tái hiện hình ảnh Khất Thực Hóa Duyên của Phật Tăng xưa.\n\n\n\nBan tổ chức thành tâm bái thỉnh Chư Tôn Đức Tăng- Ni hoan hỷ quang lâm chứng minh và trân trọng kính mời quý đồng hương Phật tử tham dự góp phần cho buổi lễ được trang nghiêm và long trọng. \nNam Mô Hoan Hỷ Tạng Bồ Tát Ma Ha Tát Tác Đại Chứng Minh. \n  \nT.M BAN TỔ CHỨC \nTỳ Kheo THÍCH MINH HỘI
URL:https://minhquang.com.au/event/sydney-dai-le-tuong-niem-67-nam-duc-to-su-minh-dang-quang-vang-bong/
LOCATION:TỔ ĐÌNH MINH QUANG SYDNEY\, 28-32 Chadderton Street\, Canley Vale\, NSW\, 2166\, Australia
CATEGORIES:Sydney
ATTACH;FMTTYPE=image/jpeg:https://minhquang.com.au/wp-content/uploads/2020/12/tosu.jpg
END:VEVENT
END:VCALENDAR