BEGIN:VCALENDAR
VERSION:2.0
PRODID:-//Thiền Viện Minh Quang - ECPv6.15.20//NONSGML v1.0//EN
CALSCALE:GREGORIAN
METHOD:PUBLISH
X-ORIGINAL-URL:https://minhquang.com.au
X-WR-CALDESC:Events for Thiền Viện Minh Quang
REFRESH-INTERVAL;VALUE=DURATION:PT1H
X-Robots-Tag:noindex
X-PUBLISHED-TTL:PT1H
BEGIN:VTIMEZONE
TZID:Australia/Melbourne
BEGIN:STANDARD
TZOFFSETFROM:+1100
TZOFFSETTO:+1000
TZNAME:AEST
DTSTART:20200404T160000
END:STANDARD
BEGIN:DAYLIGHT
TZOFFSETFROM:+1000
TZOFFSETTO:+1100
TZNAME:AEDT
DTSTART:20201003T160000
END:DAYLIGHT
BEGIN:STANDARD
TZOFFSETFROM:+1100
TZOFFSETTO:+1000
TZNAME:AEST
DTSTART:20210403T160000
END:STANDARD
BEGIN:DAYLIGHT
TZOFFSETFROM:+1000
TZOFFSETTO:+1100
TZNAME:AEDT
DTSTART:20211002T160000
END:DAYLIGHT
BEGIN:STANDARD
TZOFFSETFROM:+1100
TZOFFSETTO:+1000
TZNAME:AEST
DTSTART:20220402T160000
END:STANDARD
BEGIN:DAYLIGHT
TZOFFSETFROM:+1000
TZOFFSETTO:+1100
TZNAME:AEDT
DTSTART:20221001T160000
END:DAYLIGHT
END:VTIMEZONE
BEGIN:VEVENT
DTSTART;TZID=Australia/Melbourne:20210829T100000
DTEND;TZID=Australia/Melbourne:20210829T130000
DTSTAMP:20260424T022946
CREATED:20210827T091852Z
LAST-MODIFIED:20210827T091852Z
UID:5048-1630231200-1630242000@minhquang.com.au
SUMMARY:Adelaide - Lễ Vu Lan và Dâng Y Ca Sa 2021
DESCRIPTION:GIÁO HỘI TĂNG GIÀ KHẤT SĨ ÚC CHÂU\nTHIỀN VIỆN MINH QUANG\n50 David Tce\, Kilkenny SA 5009 – Tel: (08) 71202670 \nTHƯ MỜI\nLỄ VU LAN & DÂNG Y CA SA\nPL. 2565 – DL. 2021 \n“Tiết tháng bảy gió lạnh\, đông về thương nhớ Mẹ\nHội Vu Lan hương trầm quyện tỏa niệm ân Cha”. \nNam mô Bổn Sư Thích Ca Mâu Ni Phật\nKính thưa quý đồng hương Phật tử. \nVu Lan lại trở về với bao người con Phật\, nhớ đến công sanh thành dưỡng dục của Cha Mẹ. Chúng ta noi theo gương hiếu hạnh của chư Phật\, đặc biệt gương hiếu hạnh của đức Mục Kiền Liên Bồ Tát. Nhân dịp này kính mời quý đồng hương và Phật tử dành ít thời gian quý báu về Thiền viện Minh Quang tham dự \nĐại Lễ Vu Lan & Dâng Y Ca Sa (Có chương trình riêng)\nvào lúc 10am\, Chủ Nhật 29/ 8/ 2021 (nhằm ngày 22/ 7/ Tân Sửu). \nRất mong quý vị tham gia đông đủ và đến đúng giờ quy định để buổi lễ đem đến nhiều ý nghĩa cho quý vị. Đồng thời cũng cầu nguyện Cửu huyền thất tổ\, ông bà cha mẹ\, thân bằng quyến thuộc quá vãng siêu sanh Tịnh độ\, nguyện cầu những thương vong Covid được siêu thoát\, nạn nhân lây nhiễm chóng hồi phục. Và xin gửi lời chân thành chúc lành đến quý vị cùng gia quyến tăng long phước thọ\, muôn điều sở nguyện và trọn lòng hiếu hạnh trong mùa báo hiếu năm nay. \nNam mô Đại Hiếu Mục Kiền Liên Bồ Tát. \nTăng Ni Thiền Viện Minh Quang\, Nam Úc\nTrân Trọng Kính Mời
URL:https://minhquang.com.au/event/adelaide-le-vu-lan-va-dang-y-ca-sa-2021/
LOCATION:THIỀN VIỆN MINH QUANG NAM ÚC\, 50 David Terrace\, Kilkenny\, SA\, 5009\, Australia
CATEGORIES:Adelaide
ATTACH;FMTTYPE=image/jpeg:https://minhquang.com.au/wp-content/uploads/2021/06/ABEAF6DA-D6C0-4094-8193-B942A31A6220.jpeg
END:VEVENT
BEGIN:VEVENT
DTSTART;TZID=Australia/Melbourne:20210822T103000
DTEND;TZID=Australia/Melbourne:20210827T130000
DTSTAMP:20260424T022946
CREATED:20210827T084352Z
LAST-MODIFIED:20210827T084352Z
UID:5044-1629628200-1630069200@minhquang.com.au
SUMMARY:Sydney - MÙA VU LAN BÁO HIẾU PL.2565 – DL.2021
DESCRIPTION:THÔNG BÁO\nMÙA VU LAN BÁO HIẾU PL.2565 – DL.2021 \nVu Lan báo hiếu Mẹ Cha\nNgày Rằm tháng Bảy thiết tha nguyện cầu\nƠn Cha nghĩa Mẹ thâm sâu\nChỉ mong con khỏe nào cầu lợi danh\n                                       (NH)\nNam Mô Bổn Sư Thích Ca Mâu Ni Phật. \nKính thưa quý Phật tử\,\nMùa Vu Lan Báo Hiếu lại về\, là dịp để những người con thể hiện lòng hiếu kính\, đền ơn Cha Mẹ và cầu siêu cho Cửu Huyền Thất Tổ.\nNăm nay\, do tình hình dịch bệnh ngày càng gia tăng\, Tổ Đình Minh Quang không thể tổ chức Đại Lễ Vu Lan và Dâng Y Ca Sa như mọi năm.\nTừ đầu tháng 7 âm lịch\, Tổ đình khai Kinh Vu Lan và Kinh Địa Tạng để hồi hướng phước lành siêu độ vong linh.\nKính mong quý Phật tử ở tại tư gia cũng dành thời gian cùng nhất tâm trì tụng và niệm Phật cầu nguyện cho tự thân\, thân bằng quyến thuộc và Cửu Huyền Thất Tổ được ân triêm lợi lạc. \nLễ Vu Lan (được tổ chức nội bộ tại Thiền viện)\nVào lúc: 10.30 am\nNgày Rằm tháng 7 năm Tân Sửu (nhằm ngày 22/8/2021)\nSau đó\, là Lễ cúng Cầu siêu Cửu Huyền Thất Tổ. \nQuý Phật tử xin gửi phương danh cầu an và cầu siêu về Thiền viện (Ban Thư ký – Phật tử Diệu Ánh) hoặc gửi về Tổ Đình (Sư cô Hạnh).\nKính chúc lành đến quý Phật tử cùng gia quyến luôn an lành\, mạnh khỏe\, tinh tấn và được trọn lòng hiếu hạnh trong mùa Báo hiếu. \nNam mô Vu lan Duyên khởi Đại hiếu Mục Kiền Liên Bồ tát. \nSydney\, 6/8/2021\nTỳ Kheo Thích Minh Hội
URL:https://minhquang.com.au/event/sydney-mua-vu-lan-bao-hieu-pl-2565-dl-2021/
LOCATION:TỔ ĐÌNH MINH QUANG SYDNEY\, 28-32 Chadderton Street\, Canley Vale\, NSW\, 2166\, Australia
CATEGORIES:Sydney
ATTACH;FMTTYPE=image/jpeg:https://minhquang.com.au/wp-content/uploads/2021/08/99421177-A4AE-481E-A44D-30645FE10E3C.jpeg
END:VEVENT
BEGIN:VEVENT
DTSTART;TZID=Australia/Melbourne:20210605T180000
DTEND;TZID=Australia/Melbourne:20210606T000000
DTSTAMP:20260424T022946
CREATED:20210509T120202Z
LAST-MODIFIED:20210514T124325Z
UID:4675-1622916000-1622937600@minhquang.com.au
SUMMARY:Perth - Lễ Phật Đản PL2565
DESCRIPTION:GIÁO HỘI PHẬT GIÁO TĂNG GIÀ KHẤT SĨ ÚC CHÂU\nTHIỀN-VIÊN MINH-QUANG TÂY ÚC (PERTH)\n5 Hyem Rd\, Herne Hill. WA.6050 – ĐT: (08)92964259.\nTHƠ MỜI DỰ ĐẠI LỄ PHẬT-ĐẢN PL.2565 \nNam Mô Bổn Sư Thích-Ca Mâu-Ni Phật.\nKính gởi: Quý đồng hương\, quý Phật Tử.\nĐể tỏ lòng tôn kính và biết ơn Đức Phật Bổn Sư THÍCH CA vị Thầy của chư Thiên và nhân loại\, THIỀN-VIỆN MINH-QUANG Tây Úc (Perth) sẽ tổ chức ĐẠI LỄ PHẬT ĐẢN lần thứ 2645\, PL.2565\, chương trình như sau:\nI.- Thứ bảy\, ngày 05-6-2021\n– Buổi tối từ 6g đến 8g:THUYẾT PHÁP do HT Thích MINH-HIẾU đến từ Tổ Đình Minh-Quang Sydney\nII.- Chủ nhật\, ngày 06-6-2021 (26-4 Al) ĐẠI LỄ chánh thức:\n-9g30: Quan khách\, quý đồng hương\, quý phật tử vân tập về Thiền viện.\n– 10 g: -Nghi thức Đại Lễ PHẬT ĐẢN\n– HT Viện Chủ chứng minh và ban đạo từ.\nKính mời quý đồng hương\, quý phật tử về Thiền-Viện để tưởng niệm ĐẤNG CHA LÀNH CỦA NHÂN LOẠI và cùng nhau hiệp lực cầu nguyện cho thế giới hòa bình\, nhân sinh an lạc\, dịch cúm Covid-19 sớm tiêu trừ\, bao nhiêu tai ách đều tai qua nạn khỏi.\nSự hiện diện của Quý Vị là niềm vinh dự lớn lao cho Ban Tổ Chức và cũng góp phần công đức cho buổi đại lễ được thành công viên mãn.\nKính chúc toàn thể Quý Vị THÂN TÂM LUÔN AN LẠC.\n· Sau buổi lễ kính mời toàn thể quý vị ở lại dùng chay thanh đạm với Ban Tổ Chức \nPerth\, ngày 15 tháng 5 năm 2021\nTM. Tăng\, Ni TV Minh-Quang Tây Úc\nTỳ kheo. THÍCH-MINH-THƯỜNG
URL:https://minhquang.com.au/event/perth-le-phat-dan-pl2565/
LOCATION:THIỀN VIỆN MINH QUANG TÂY ÚC\, 5 Hyem road\, Herne Hill\, WA\, 6056\, Australia
CATEGORIES:Perth
ATTACH;FMTTYPE=image/jpeg:https://minhquang.com.au/wp-content/uploads/2021/05/Perth-tblpd2021.jpg
END:VEVENT
BEGIN:VEVENT
DTSTART;TZID=Australia/Melbourne:20210530T100000
DTEND;TZID=Australia/Melbourne:20210530T170000
DTSTAMP:20260424T022946
CREATED:20210509T120425Z
LAST-MODIFIED:20210509T120728Z
UID:4677-1622368800-1622394000@minhquang.com.au
SUMMARY:Adelaide – Thông báo Lễ Phật Đản PL2565
DESCRIPTION:GIÁO HỘI TĂNG GIÀ KHẤT SĨ ÚC CHÂU\nTHIỀN VIỆN MINH QUANG\, NAM ÚC\n50 David Tce\, Kilkenny SA 5009 \nTHÔNG BÁO\nTHAM DỰ ĐẠI LỄ PHẬT ĐẢN\, PL. 2565\, DL. 2021 \nNam Mô Bổn Sư Thích Ca Mâu Ni Phật\nVui thay chư Phật ra đời\,\n Vui thay giáo Pháp khắp nơi hoằng truyền.\nVui thay Tăng Bảo trang nghiêm\,\nVui thay bốn chúng kết duyên tu hành. \nKính gửi quý đồng hương Phật tử\, \nHằng năm\, cứ mỗi độ trăng rằm tháng tư âm lịch trở về\, những người con Phật khắp nơi trên toàn thế giới lại hân hoan chào đón ngày đản sinh của Đức Từ Phụ Thích Ca Mâu Ni\, bậc Đạo Sư vĩ đại nhất của nhân loại. Sự xuất hiện của Ngài\, đã đem lại nguồn an lạc và hạnh phúc chân thật cho tất cả và là một nhân duyên lớn cho chúng sanh tìm về con đường giác ngộ giải thoát.\nHòa cùng không khí hân hoan đón mừng ngày Phật đản khắp mọi nơi và để tỏ lòng thành kính tri ân Đức Phật\, thiền viện Minh Quang Adelaide long trọng tổ chức Đại Lễ Phật Đản lần thứ 2647.\nThời gian: 10.00 am\, Chủ Nhật\, 30/ 5/ 2021 (19/ 4/ Tân Sửu).\nThay mặt Ban Tổ Chức xin trân trọng kính mời quý đồng hương Phật tử dành chút thời gian về dự lễ. Nguyện cầu Tam Bảo thùy từ gia hộ cho quý vị và quyến thuộc một mùa Phật Đản vô lượng an lạc\, vô lượng cát tường. \nTrân trọng kính mời\nThay mặt BTC\nTăng Ni Thiền Viện Minh Quang \nCHƯƠNG TRÌNH ĐẠI LỄ\n09.00 am: Phật tử vân tập\n10.00 am: Bắt đầu buổi lễ gồm:\n1. Dâng hoa\n2. Tuyên đọc Thông điệp Phật đản\n3. Hợp ca cúng dường\n4. Cảm niệm Phật Đản\n5. Đơn ca cúng dường\n6. Đạo từ chứng minh\n7. Khóa lễ cầu nguyện\n& Nghi thức tắm Phật\n8. Thọ trai & hoàn mãn\n9. Lễ quy y Tam Bảo. (2pm)
URL:https://minhquang.com.au/event/adelaide-thong-bao-le-phat-dan-pl2565/
LOCATION:THIỀN VIỆN MINH QUANG NAM ÚC\, 50 David Terrace\, Kilkenny\, SA\, 5009\, Australia
CATEGORIES:Adelaide
ATTACH;FMTTYPE=image/jpeg:https://minhquang.com.au/wp-content/uploads/2021/05/viber_image_2021-05-08_11-36-57.jpg
END:VEVENT
BEGIN:VEVENT
DTSTART;TZID=Australia/Melbourne:20210526T100000
DTEND;TZID=Australia/Melbourne:20210526T170000
DTSTAMP:20260424T022946
CREATED:20210509T120549Z
LAST-MODIFIED:20210509T120549Z
UID:4679-1622023200-1622048400@minhquang.com.au
SUMMARY:Sydney - Thông báo Đại Lễ Phật Đản PL. 2565 – DL. 2021
DESCRIPTION:GIÁO HỘI PHẬT GIÁO TĂNG GIÀ KHẤT SĨ ÚC CHÂU\nTHIỀN VIỆN MINH QUANG\n28-32 Chadderton Street\, Canley Vale Sydney NSW 2166\nTel: (02) 9723 8700 – Fax: (02) 9723 8701 \nNam Mô Bổn Sư Thích Ca Mâu Ni Phật \nTHÔNG BÁO\nĐẠI LỄ PHẬT ĐẢN PL. 2565 – DL. 2021\nĐất thiên rung chuyển nhạc trời\,\nNgàn hoa rộ nở sáng ngời Tỳ Ni.\nĐóa sen bảy báu bước đi\,\nĐạo vàng lan tỏa khắp vì độ tha. \nKính thưa quý Phật tử xa gần\, năm nay\nVào ngày: Thứ Tư\, 26/ 5/ 2021 (15/ 4/ Tân Sửu)\nVào lúc: 10:00am\nThiền Viện tổ chức đón mừng Đại lễ Phật Đản\, PL. 2565 – DL. 2021\, ngày Đức Từ phụ Thích Ca Mâu Ni ra đời. Để cho ngày Lễ Đản Sanh của Đức Từ phụ Thích Ca Mâu Ni diễn ra trang nghiêm\, long trọng và viên mãn; đồng thời góp phần cầu nguyện cho quốc thới dân an\, thiên hạ thái bình\, chúng sanh nơi nơi an cư lạc nghiệp\, Thiền Viện xin thông báo và trân trọng kính mời quý Phật tử nhín chút thời gian quý báu về tham dự đông đủ. \nNam Mô Lâm Tì Ni Viên Vô Ưu Thọ Hạ Thị Hiện Đản Sanh Thái Tử Sĩ Đạt Ta. \nTrụ Trì Thiền Viện Minh Quang\nTK. Thích Minh Hội
URL:https://minhquang.com.au/event/sydney-thong-bao-dai-le-phat-dan-pl-2565-dl-2021/
LOCATION:TỔ ĐÌNH MINH QUANG SYDNEY\, 28-32 Chadderton Street\, Canley Vale\, NSW\, 2166\, Australia
CATEGORIES:Sydney
ATTACH;FMTTYPE=image/jpeg:https://minhquang.com.au/wp-content/uploads/2021/05/viber_image_2021-05-05_21-23-53.jpg
END:VEVENT
BEGIN:VEVENT
DTSTART;TZID=Australia/Melbourne:20210523T093000
DTEND;TZID=Australia/Melbourne:20210523T150000
DTSTAMP:20260424T022946
CREATED:20210509T115642Z
LAST-MODIFIED:20210509T115732Z
UID:4671-1621762200-1621782000@minhquang.com.au
SUMMARY:Brisbane - Lễ Phật Đản PL2565
DESCRIPTION:Giáo Hội Phật Giáo Tăng Già Khất Sĩ Úc Châu\nNi Viện Minh Quang\n154 Harwoods Road\, Walloon QLD 4306\n0435 459 989 – 0434 734 998 \nThông báo Đại Lễ Phật Đản \nNam Mô Bổn Sư Thích Ca Mâu Ni Phật\, \nKính thưa quý Phật tử\, Đại lễ Phật Đản lần thứ 2645\, PL 2565 sẽ được diễn ra vào ngày Chủ Nhật 23 tháng 5 năm 2021 (Nhằm ngày 12 tháng 4 âm lịch). Chương trình của buổi lễ như sau: \n09:30am Phật tử vân tập về đạo tràng\n10:00 – 12:00pm Đại Lễ Phật Đản\nKhoá lễ cầu nguyện\nHoà Thượng Viện chủ chứng minh và ban đạo từ\nNghi lễ tắm Phật\n12:00pm Cúng dường trai tăng. Đại chúng dùng trưa\n02:00pm Lễ Sám Hối \nNi Viện Minh Quang sẽ tái hiện khung cảnh vườn Lâm Tỳ Ni (Lumbini) nơi hoàng hậu Maya đản sanh hoàng tử Sĩ Đạt Đa – Siddhartha (sau này Ngài xuất gia và thành đạo\, trở thành Đức Phật Thích Ca Mâu Ni).\nBan tổ chức xin trân trọng kính mời quý Phật tử đồng hương cùng về tham dự đông đủ. \nChư Ni tại Ni Viện kính thông báo
URL:https://minhquang.com.au/event/4671/
LOCATION:NI VIỆN MINH QUANG\, 154 Harwoods Road\, Walloon\, QLD\, 4306\, Australia
CATEGORIES:Brisbane
ATTACH;FMTTYPE=image/jpeg:https://minhquang.com.au/wp-content/uploads/2021/05/Thong-bao-Dai-le-Phat-Dan.jpg
END:VEVENT
BEGIN:VEVENT
DTSTART;TZID=Australia/Melbourne:20210411T100000
DTEND;TZID=Australia/Melbourne:20210411T133000
DTSTAMP:20260424T022946
CREATED:20210326T220847Z
LAST-MODIFIED:20210327T004111Z
UID:4500-1618135200-1618147800@minhquang.com.au
SUMMARY:Perth - Lễ Vía Đức Quán Thế Âm Bồ Tát
DESCRIPTION:GIÁO HỘI TĂNG GIÀ KHẤT SĨ ÚC CHÂU\nTHIỀN VIỆN MINH QUANG TÂY ÚC\n5 Hyem road\, Herne Hill\,WA\,6056- Tel: (08) 92964259 \nTHÔNG BÁO\n(LỄ VÍA ĐỨC QUÁN THẾ ÂM BỒ TÁT) \nKính gửi quý Đồng Hương\, Phật Tử: \nChủ nhật\, ngày 11/4/ 2021 (30/ 02/ Tân Sửu) \n10\,00am: Trì chú đại bi\, lạy đức Bồ Tát Quán Âm.\n11\,00am: Thuyết pháp (HT. Thích Minh Hiếu)\n12\,10pm: Dùng trưa thân mật \nKính mời quí đồng hương phật tử tham dự đông đủ\, cầu nguyện cho mình\, tha nhân được bình an hạnh phúc\, thế giới hòa bình\, dịch bệnh tiêu tan. Sự hiên diện của quí đồng hương\, phật tử làm cho buổi lễ được trang nghiêm và màu nhiệm. \nTrân trọng kính mời\nTỳ kheo: Thích Minh Thường
URL:https://minhquang.com.au/event/perth-le-via-duc-quan-the-am-bo-tat/
LOCATION:THIỀN VIỆN MINH QUANG TÂY ÚC\, 5 Hyem road\, Herne Hill\, WA\, 6056\, Australia
CATEGORIES:Perth
ATTACH;FMTTYPE=image/jpeg:https://minhquang.com.au/wp-content/uploads/2021/03/LE-VIA-DUC-QUAN-THE-AM-BO-TAT.jpg
END:VEVENT
BEGIN:VEVENT
DTSTART;TZID=Australia/Melbourne:20210313T093000
DTEND;TZID=Australia/Melbourne:20210313T093000
DTSTAMP:20260424T022946
CREATED:20210223T100114Z
LAST-MODIFIED:20210223T122214Z
UID:4149-1615627800-1615627800@minhquang.com.au
SUMMARY:Sydney - Đại lễ tưởng niệm 67 năm Đức Tổ Sư Minh Đăng Quang vắng bóng
DESCRIPTION:GIÁO HỘI PHẬT GIÁO TĂNG GIÀ KHẤT SỈ ÚC CHÂU\nTHIỀN VIỆN MINH QUANG \n28-32 Chadderton Street\, Canley Vale Sydney NSW 2166\nTel: (02) 9723 8700 – Fax (02) 9723 8701 \nNam Mô Bổn Sư Thích Ca Mâu Ni Phật \nTHÔNG BÁO\nĐẠI LỄ TƯỞNG NIỆM 67 NĂM\nĐỨC TỔ SƯ MINH ĐĂNG QUANG VẮNG BÓNG\n(01/02 ÂL/1954 – 01/02 ÂL/2021) \nKính bạch chư Tôn Đức Tăng – Ni\,\nKính thưa quý Phật tử\,\nThiền Viện Minh Quang tại bốn tiểu bang Úc Châu \nĐể tưởng niệm và tri ân Đức Tổ Sư MINH ĐĂNG QUANG – Tổ Sư khai lập “Đạo Phật Khất Sĩ Việt Nam” với chí nguyện “Nối truyền Thích Ca Chánh Pháp”\, cũng như ôn lại hành trạng của Đức Tổ Sư và tạo thắng duyên cho môn đồ đệ tử báo đáp thâm ân\, Giáo Hội Phật giáo Tăng già Khất Sĩ Úc Châu thành kính tổ chức: \nĐẠI LỂ TƯỞNG NIỆM 67 NĂM\nĐỨC TỔ SƯ MINH ĐĂNG QUANG VẮNG BÓNG (1954-2021) \n\n\n\nThời gian: 10g sáng mùng 1 tháng 2 năm Tân Sửu (Âm Lịch) Nhằm ngày Thứ Bảy\, 13/03/2021 (Dương Lịch)\n\n\n\n\n\n\nVào lúc 9g30 sáng: Chư Tôn Đức Tăng-Ni sẽ tái hiện hình ảnh Khất Thực Hóa Duyên của Phật Tăng xưa.\n\n\n\nBan tổ chức thành tâm bái thỉnh Chư Tôn Đức Tăng- Ni hoan hỷ quang lâm chứng minh và trân trọng kính mời quý đồng hương Phật tử tham dự góp phần cho buổi lễ được trang nghiêm và long trọng. \nNam Mô Hoan Hỷ Tạng Bồ Tát Ma Ha Tát Tác Đại Chứng Minh. \n  \nT.M BAN TỔ CHỨC \nTỳ Kheo THÍCH MINH HỘI
URL:https://minhquang.com.au/event/sydney-dai-le-tuong-niem-67-nam-duc-to-su-minh-dang-quang-vang-bong/
LOCATION:TỔ ĐÌNH MINH QUANG SYDNEY\, 28-32 Chadderton Street\, Canley Vale\, NSW\, 2166\, Australia
CATEGORIES:Sydney
ATTACH;FMTTYPE=image/jpeg:https://minhquang.com.au/wp-content/uploads/2020/12/tosu.jpg
END:VEVENT
BEGIN:VEVENT
DTSTART;TZID=Australia/Melbourne:20210307T100000
DTEND;TZID=Australia/Melbourne:20210307T100000
DTSTAMP:20260424T022946
CREATED:20210222T105819Z
LAST-MODIFIED:20210222T110204Z
UID:4117-1615111200-1615111200@minhquang.com.au
SUMMARY:Perth - Cúng rằm tháng giêng
DESCRIPTION:  GIÁO HỘI TĂNG GIÀ KHẤT SĨ ÚC CHÂU\nTHIỀN VIỆN MINH QUANG TÂY ÚC \n    5 Hyem road\, Herne Hill\,WA\,6056- Tel: (08) 92964259 \nTHƯ MỜI\n(CÚNG RẰM THÁNG GIÊNG) \n  Kính gửi quý Đồng Hương\, Phật Tử:  \nTháng giêng ngày lễ đầu năm\nĐi chùa lạy phật thân tâm an lành. \nRằm tháng giêng là ngày rằm lớn đầu năm hay gọi là Thượng Nguyên. Văn hóa dân tộc việt nam\, rằm tháng giêng đã đi vào lòng người dân từ bao đời\, người người\, nhà nhà\, già trẻ\, gái trai… đến ngày rằm tháng giêng\, đi chùa lễ Phật cầu nguyện bình an\, gia đình phát tài thịnh vượng\, cầu nguyện thế giới hòa bình nhân sanh lợi lạc. Thiền Viện Minh Quang Tây Úc sẽ tổ chức lễ cúng Rằm tháng giêng Thượng Nguyên và lễ tưởng niệm 67 năm Đức Tổ Sư Minh Đăng Quang vắng bóng. \nLễ chính thức 10:00 am Chủ nhật\, ngày 07/3/ 2021 ( 24/ 01/ Tân Sửu)\, tụng kinh cầu an\, cầu siêu\, kinh phổ môn\, lễ cúng Tổ sư\, tụng kinh cúng cửu huyền thất tổ\, dùng chay thân mật \nSự hiên diện đông đủ của quí đồng hương\, phật tử làm cho buổi lễ được trang nghiêm và thánh thiện. \n Trân trọng kính mời \nTỳ kheo: Thích Minh Thường             
URL:https://minhquang.com.au/event/perth-cung-ram-thang-gieng/
LOCATION:THIỀN VIỆN MINH QUANG TÂY ÚC\, 5 Hyem road\, Herne Hill\, WA\, 6056\, Australia
CATEGORIES:Perth
END:VEVENT
BEGIN:VEVENT
DTSTART;TZID=Australia/Melbourne:20210307T090000
DTEND;TZID=Australia/Melbourne:20210307T090000
DTSTAMP:20260424T022946
CREATED:20210223T102338Z
LAST-MODIFIED:20210223T121710Z
UID:4155-1615107600-1615107600@minhquang.com.au
SUMMARY:Brisbane - Đại lễ tưởng niệm Đức Tổ Sư Minh Đăng Quang
DESCRIPTION:GIÁO HỘI PHẬT GIÁO TĂNG GIÀ KHẤT SĨ ÚC CHÂU\nNI VIỆN MINH QUANG\n154 Harwoods Road\, Walloon QLD 4306\n0435 459 989 – 0434 743 998 \nNam Mô Bổn Sư Thích Ca Mâu Ni Phật\, \nĐể tưởng niệm và tri ân Đức Tổ Sư MINH ĐĂNG QUANG – Tổ Sư khai lập “Đạo Phật Khất Sĩ Việt Nam” cũng như ôn lại hành trang của Tổ Sư và tạo thắng duyên cho môn đồ đệ tử báo đáp thâm ân\, Ni Viện Minh Quang thành kính tổ chức: \nĐẠI LỄ TƯỞNG NIỆM 67 NĂM (1954- 2021)\nĐỨC TỔ SƯ MINH ĐĂNG QUANG VẮNG BÓNG \nNgày: Chủ Nhật 07/03/2021\, nhằm ngày 24 tháng Giêng năm Tân Sửu\n9:00am – Khất thực hóa duyên\n10:00am – Lễ Tưởng Niệm Đức Tổ Sư\nHoà Thượng chứng minh và ban đạo từ: Hoà Thượng Thích Minh Hiếu\n12:00pm – Cúng dường Trai Tăng\n1:30pm – Lễ Quy Y Tam Bảo\ntại 154 Harwoods Road\, Walloon 4306\nBan tổ chức trân trọng kính mời quý đồng hương Phật tử hoan hỷ tham dự đông đủ nhằm góp phần cho buổi lễ được trang nghiêm và long trọng. \nChư Ni tại Ni Viện kính thông báo
URL:https://minhquang.com.au/event/brisbane-dai-le-tuong-niem-duc-to-su-minh-dang-quang/
LOCATION:NI VIỆN MINH QUANG\, 154 Harwoods Road\, Walloon\, QLD\, 4306\, Australia
CATEGORIES:Brisbane
ATTACH;FMTTYPE=image/jpeg:https://minhquang.com.au/wp-content/uploads/2021/02/TS-Minh-Dang-Quang-Tai-DBBSCL.jpg
END:VEVENT
BEGIN:VEVENT
DTSTART;TZID=Australia/Melbourne:20210228T103000
DTEND;TZID=Australia/Melbourne:20210228T103000
DTSTAMP:20260424T022946
CREATED:20210223T113135Z
LAST-MODIFIED:20210223T122007Z
UID:4181-1614508200-1614508200@minhquang.com.au
SUMMARY:Brisbane - CÚNG RẰM THÁNG GIÊNG\, THUYẾT PHÁP VÀ SÁM HỐI
DESCRIPTION: GIÁO HỘI PHẬT GIÁO TĂNG GIÀ KHẤT SĨ ÚC CHÂU\nNI VIỆN MINH QUANG\n154 Harwoods Rd\, Walloon QLD 4306\n0435 459 989 ; 0434 743 998 \n  \nTHÔNG BÁO \nTrân trọng kính mời quí Phật tử về Ni Viện Minh Quang dự lễ \nCÚNG RẰM THÁNG GIÊNG\, THUYẾT PHÁP VÀ SÁM HỐI\nChủ Nhật –  28/02/2021 (Nhằm ngày 17 tháng Giêng năm Tân Sửu)  \n10:30am: Tụng kinh\, cúng rằm\n12:00pm: Đại chúng dùng trưa\n2:30pm: Thuyết pháp\n4:30pm: Sám Hối \nVài dòng kính thông báo đến quí Phật tử\, kính mời quí vị cùng về dự lễ và nghe thuyết pháp đông đủ. Kính chúc quí vị luôn an lạc trong chánh pháp. \nChư Ni NVMQ kính thông báo
URL:https://minhquang.com.au/event/brisbane-cung-ram-thang-gieng-thuyet-phap-va-sam-hoi/
LOCATION:NI VIỆN MINH QUANG\, 154 Harwoods Road\, Walloon\, QLD\, 4306\, Australia
CATEGORIES:Brisbane
ATTACH;FMTTYPE=image/jpeg:https://minhquang.com.au/wp-content/uploads/2021/01/Screen-Shot-2021-01-09-at-2.39.13-pm.jpg
END:VEVENT
END:VCALENDAR